BEGIN:VCALENDAR
VERSION:2.0
PRODID:-//STADTKULTUR HAMBURG//kultur-hamburg.de///DE
CALSCALE:GREGORIAN
BEGIN:VEVENT
X-WR-TIMEZONE:Europe/Berlin
DTSTART:20250915T193000
DTEND:20250915T213000
LOCATION:Zinnschmelze \, Maurienstraße 19 \, 22305 Hamburg
DTSTAMP:20260421T170723
SUMMARY:ZinneChor
URL;VALUE=URI:https://www.kultur-hamburg.de/kurse_workshops/zinnechor-735394
DESCRIPTION:Unser Motto lautet Wir singen (fast) alles
UID:97299899600345ff9eb6799ff5ba7c4b@kulturhamburg
END:VEVENT
END:VCALENDAR