BEGIN:VCALENDAR
VERSION:2.0
PRODID:-//STADTKULTUR HAMBURG//kultur-hamburg.de///DE
CALSCALE:GREGORIAN
BEGIN:VEVENT
X-WR-TIMEZONE:Europe/Berlin
DTSTART:20251020T193000
DTEND:20251020T213000
LOCATION:Zinnschmelze \, Maurienstraße 19 \, 22305 Hamburg
DTSTAMP:20260422T011507
SUMMARY:ZinneChor
URL;VALUE=URI:https://www.kultur-hamburg.de/kurse_workshops/zinnechor-735399
DESCRIPTION:Unser Motto lautet Wir singen (fast) alles
UID:b7f87e2e84f28ba2c225ad8af4b91069@kulturhamburg
END:VEVENT
END:VCALENDAR