BEGIN:VCALENDAR
VERSION:2.0
PRODID:-//STADTKULTUR HAMBURG//kultur-hamburg.de///DE
CALSCALE:GREGORIAN
BEGIN:VEVENT
X-WR-TIMEZONE:Europe/Berlin
DTSTART:20250901T160000
DTEND:20250901T181500
LOCATION:Zinnschmelze \, Maurienstraße 19 \, 22305 Hamburg
DTSTAMP:20260421T134838
SUMMARY:TanzKrümel/Ballett Krümel/Ballett Minis/Die Ballett Minis/BalettMonster
URL;VALUE=URI:https://www.kultur-hamburg.de/kurse_workshops/tanzkruemelballett-kruemelballett-minisdie-ballett-minisbalettmonster-735442
DESCRIPTION:Tanz/Bewegung, Kinder-Jugendkultur
UID:21a59b1bc398679339f96dd1a9a07b0a@kulturhamburg
END:VEVENT
END:VCALENDAR