BEGIN:VCALENDAR
VERSION:2.0
PRODID:-//STADTKULTUR HAMBURG//kultur-hamburg.de///DE
CALSCALE:GREGORIAN
BEGIN:VEVENT
X-WR-TIMEZONE:Europe/Berlin
DTSTART:20250922T160000
DTEND:20250922T181500
LOCATION:Zinnschmelze \, Maurienstraße 19 \, 22305 Hamburg
DTSTAMP:20260421T184753
SUMMARY:TanzKrümel/Ballett Krümel/Ballett Minis/Die Ballett Minis/BalettMonster
URL;VALUE=URI:https://www.kultur-hamburg.de/kurse_workshops/tanzkruemelballett-kruemelballett-minisdie-ballett-minisbalettmonster-735445
DESCRIPTION:Tanz/Bewegung, Kinder-Jugendkultur
UID:744b82952e44e03ba5ffb22b7e952713@kulturhamburg
END:VEVENT
END:VCALENDAR