BEGIN:VCALENDAR
VERSION:2.0
PRODID:-//STADTKULTUR HAMBURG//kultur-hamburg.de///DE
CALSCALE:GREGORIAN
BEGIN:VEVENT
X-WR-TIMEZONE:Europe/Berlin
DTSTART:20251124T160000
DTEND:20251124T181500
LOCATION:Zinnschmelze \, Maurienstraße 19 \, 22305 Hamburg
DTSTAMP:20260422T095310
SUMMARY:TanzKrümel/Ballett Krümel/Ballett Minis/Die Ballett Minis/BalettMonster
URL;VALUE=URI:https://www.kultur-hamburg.de/kurse_workshops/tanzkruemelballett-kruemelballett-minisdie-ballett-minisbalettmonster-735454
DESCRIPTION:Tanz/Bewegung, Kinder-Jugendkultur
UID:928b8f02422fcfe5e4f0ffe07dc8fb60@kulturhamburg
END:VEVENT
END:VCALENDAR