BEGIN:VCALENDAR
VERSION:2.0
PRODID:-//STADTKULTUR HAMBURG//kultur-hamburg.de///DE
CALSCALE:GREGORIAN
BEGIN:VEVENT
X-WR-TIMEZONE:Europe/Berlin
DTSTART:20251201T160000
DTEND:20251201T181500
LOCATION:Zinnschmelze \, Maurienstraße 19 \, 22305 Hamburg
DTSTAMP:20260422T112357
SUMMARY:TanzKrümel/Ballett Krümel/Ballett Minis/Die Ballett Minis/BalettMonster
URL;VALUE=URI:https://www.kultur-hamburg.de/kurse_workshops/tanzkruemelballett-kruemelballett-minisdie-ballett-minisbalettmonster-735455
DESCRIPTION:Tanz/Bewegung, Kinder-Jugendkultur
UID:009c37c78a71fb0dd83649f7f2e564ed@kulturhamburg
END:VEVENT
END:VCALENDAR