BEGIN:VCALENDAR
VERSION:2.0
PRODID:-//STADTKULTUR HAMBURG//kultur-hamburg.de///DE
CALSCALE:GREGORIAN
BEGIN:VEVENT
X-WR-TIMEZONE:Europe/Berlin
DTSTART:20251215T160000
DTEND:20251215T181500
LOCATION:Zinnschmelze \, Maurienstraße 19 \, 22305 Hamburg
DTSTAMP:20260422T143712
SUMMARY:TanzKrümel/Ballett Krümel/Ballett Minis/Die Ballett Minis/BalettMonster
URL;VALUE=URI:https://www.kultur-hamburg.de/kurse_workshops/tanzkruemelballett-kruemelballett-minisdie-ballett-minisbalettmonster-735457
DESCRIPTION:Tanz/Bewegung, Kinder-Jugendkultur
UID:302ab6e7137b5cfc579989d120f634cd@kulturhamburg
END:VEVENT
END:VCALENDAR