BEGIN:VCALENDAR
VERSION:2.0
PRODID:-//STADTKULTUR HAMBURG//kultur-hamburg.de///DE
CALSCALE:GREGORIAN
BEGIN:VEVENT
X-WR-TIMEZONE:Europe/Berlin
DTSTART:20120321T163000
DTEND:20120321T183000
LOCATION:Ev. Familienbildung Eppendorf \, Loogeplatz 14/16 \, 20249 Hamburg
DTSTAMP:20260423T085925
SUMMARY:„Chillen“ einmal ganz anders
URL;VALUE=URI:https://www.kultur-hamburg.de/kurse_workshops/chillen-einmal-ganz-anders-73721
DESCRIPTION:
UID:f135bacaae60838c1333632d34e6aeed@kulturhamburg
END:VEVENT
END:VCALENDAR