BEGIN:VCALENDAR
VERSION:2.0
PRODID:-//STADTKULTUR HAMBURG//kultur-hamburg.de///DE
CALSCALE:GREGORIAN
BEGIN:VEVENT
X-WR-TIMEZONE:Europe/Berlin
DTSTART:20121117T100000
DTEND:20121117T140000
LOCATION:Ev. Familienbildung Eppendorf \, Loogeplatz 14/16 \, 20249 Hamburg
DTSTAMP:20260422T222636
SUMMARY:Familien gemeinsam in Aktion - Holzwerken
URL;VALUE=URI:https://www.kultur-hamburg.de/kurse_workshops/familien-gemeinsam-in-aktion-holzwerken-73725
DESCRIPTION:Gemeinsam einen aktiven und kreativen Samstagvormittag erleben.
UID:182b1ff3be9879e5ffcbe14711a147d8@kulturhamburg
END:VEVENT
END:VCALENDAR