BEGIN:VCALENDAR
VERSION:2.0
PRODID:-//STADTKULTUR HAMBURG//kultur-hamburg.de///DE
CALSCALE:GREGORIAN
BEGIN:VEVENT
X-WR-TIMEZONE:Europe/Berlin
DTSTART:20120326T100000
DTEND:20120521T120000
LOCATION:Ev. Familienbildung Eppendorf \, Loogeplatz 14/16 \, 20249 Hamburg
DTSTAMP:20260423T110614
SUMMARY:Zeichnen und Entspannen im Doppelpack
URL;VALUE=URI:https://www.kultur-hamburg.de/kurse_workshops/zeichnen-und-entspannen-im-doppelpack-73727
DESCRIPTION:Nicht nur, dass das Skizzieren und Zeichnen Grundlage für die Malerei oder z.B. das Schneidern ist, das Erlernen von Zeichnungen und Schnellskizzen trainiert unsere Wahrnehmung.
UID:72c04b4ee125ac94c6a91048669b3968@kulturhamburg
END:VEVENT
END:VCALENDAR