BEGIN:VCALENDAR
VERSION:2.0
PRODID:-//STADTKULTUR HAMBURG//kultur-hamburg.de///DE
CALSCALE:GREGORIAN
BEGIN:VEVENT
X-WR-TIMEZONE:Europe/Berlin
DTSTART:20120320T200000
DTEND:20120410T220000
LOCATION:Ev. Familienbildung Hamm-Horn \, Bei der Hammer Kirche 16 \, 20535 Hamburg
DTSTAMP:20260423T092609
SUMMARY:Theater spielen! Einfach! — zum Spaß!
URL;VALUE=URI:https://www.kultur-hamburg.de/kurse_workshops/theater-spielen!-einfach!-oe-zum-spass!-73730
DESCRIPTION:Schnupperkurs
Rollenspiele, Improvisationen, das Entwickeln von Spielszenen, Stimmübungen
und alles was zum Theaterspielen dazu gehört.
UID:cac7494e1436b4ac4bd48337417b6272@kulturhamburg
END:VEVENT
END:VCALENDAR