BEGIN:VCALENDAR
VERSION:2.0
PRODID:-//STADTKULTUR HAMBURG//kultur-hamburg.de///DE
CALSCALE:GREGORIAN
BEGIN:VEVENT
X-WR-TIMEZONE:Europe/Berlin
DTSTART:20120321T190000
DTEND:20120418T210000
LOCATION:Ev. Familienbildung Hamm-Horn \, Bei der Hammer Kirche 16 \, 20535 Hamburg
DTSTAMP:20260423T090841
SUMMARY:Gesichter — Ein Porträtzeichenkurs
URL;VALUE=URI:https://www.kultur-hamburg.de/kurse_workshops/gesichter-oe-ein-portraetzeichenkurs-73731
DESCRIPTION:Gesichter zeichnen, worauf kommt es dabei an? Versuchen Sie es mit einem Selbstbildnis oder dem Zeichnen Ihres Gegenübers.
UID:32ec6e4ba3f379bbfa21a149a662ce47@kulturhamburg
END:VEVENT
END:VCALENDAR