BEGIN:VCALENDAR
VERSION:2.0
PRODID:-//STADTKULTUR HAMBURG//kultur-hamburg.de///DE
CALSCALE:GREGORIAN
BEGIN:VEVENT
X-WR-TIMEZONE:Europe/Berlin
DTSTART:20120327T183000
DTEND:20120327T213000
LOCATION:Ev. Familienbildung Hamm-Horn \, Bei der Hammer Kirche 16 \, 20535 Hamburg
DTSTAMP:20260423T103637
SUMMARY:Origami — japanische Papierfaltkunst
URL;VALUE=URI:https://www.kultur-hamburg.de/kurse_workshops/origami-oe-japanische-papierfaltkunst-73732
DESCRIPTION:Aus wunderschönen Origami-Papieren zaubern Sie kleine, aber stabile Papierschachteln, die Ihre liebsten Kleinigkeiten aufbewahren oder als Geschenk-Schachteln anderen eine Freude machen.
UID:1e8e11c75877b77ed2a67f5394a5ac19@kulturhamburg
END:VEVENT
END:VCALENDAR