BEGIN:VCALENDAR
VERSION:2.0
PRODID:-//STADTKULTUR HAMBURG//kultur-hamburg.de///DE
CALSCALE:GREGORIAN
BEGIN:VEVENT
X-WR-TIMEZONE:Europe/Berlin
DTSTART:20121110T100000
DTEND:20121110T130000
LOCATION:Ev. Familienbildung Harburg \, Hölertwiete 5 \, 21073 Hamburg
DTSTAMP:20260423T001131
SUMMARY:Cooking for Teens
URL;VALUE=URI:https://www.kultur-hamburg.de/kurse_workshops/cooking-for-teens-73741
DESCRIPTION:für Kinder ab 10 Jahren
UID:8eb22c0705644ee499030a1947c0b2a3@kulturhamburg
END:VEVENT
END:VCALENDAR