BEGIN:VCALENDAR
VERSION:2.0
PRODID:-//STADTKULTUR HAMBURG//kultur-hamburg.de///DE
CALSCALE:GREGORIAN
BEGIN:VEVENT
X-WR-TIMEZONE:Europe/Berlin
DTSTART:20120320T170000
DTEND:20120417T180000
LOCATION:Ev. Familienbildung Niendorf-Lokstedt \, Lippertsche Villa/ Garstedter Weg 9 \, 22453 Hamburg
DTSTAMP:20260423T085849
SUMMARY:Papierwerkstatt
URL;VALUE=URI:https://www.kultur-hamburg.de/kurse_workshops/papierwerkstatt-73742
DESCRIPTION:Für Kinder von 5 — 8 Jahren
UID:5b0328d5ce3b852f042341b4d3921549@kulturhamburg
END:VEVENT
END:VCALENDAR