BEGIN:VCALENDAR
VERSION:2.0
PRODID:-//STADTKULTUR HAMBURG//kultur-hamburg.de///DE
CALSCALE:GREGORIAN
BEGIN:VEVENT
X-WR-TIMEZONE:Europe/Berlin
DTSTART:20120320T153000
DTEND:20120417T163000
LOCATION:Ev. Familienbildung Niendorf-Lokstedt \, Lippertsche Villa/ Garstedter Weg 9 \, 22453 Hamburg
DTSTAMP:20260423T090751
SUMMARY:Papierwerkstatt
URL;VALUE=URI:https://www.kultur-hamburg.de/kurse_workshops/papierwerkstatt-73743
DESCRIPTION:Für Eltern und Kinder von 3 — 4 Jahren
UID:d23ff0a954ab83e1e55a1004063a799f@kulturhamburg
END:VEVENT
END:VCALENDAR