BEGIN:VCALENDAR
VERSION:2.0
PRODID:-//STADTKULTUR HAMBURG//kultur-hamburg.de///DE
CALSCALE:GREGORIAN
BEGIN:VEVENT
X-WR-TIMEZONE:Europe/Berlin
DTSTART:20120328T200000
DTEND:20120328T220000
LOCATION:Ev. Familienbildung Niendorf-Lokstedt \, Lippertsche Villa/ Garstedter Weg 9 \, 22453 Hamburg
DTSTAMP:20260423T103718
SUMMARY:Kindergeburtstage feiern!
URL;VALUE=URI:https://www.kultur-hamburg.de/kurse_workshops/kindergeburtstage-feiern!-73831
DESCRIPTION:Was machen wir dieses Jahr? Wie schaffe ich es, preiswert und stressarm
zu feiern? Praktische Tipps, Ideen und Anregungen rund um das Thema
Geburtstag.
Leitung Sabine Bolhöfer-Steffen
UID:7f067f56477a6d3aeab8a9d21e9c6f27@kulturhamburg
END:VEVENT
END:VCALENDAR