BEGIN:VCALENDAR
VERSION:2.0
PRODID:-//STADTKULTUR HAMBURG//kultur-hamburg.de///DE
CALSCALE:GREGORIAN
BEGIN:VEVENT
X-WR-TIMEZONE:Europe/Berlin
DTSTART:20251124T170000
DTEND:20251124T180000
LOCATION:Zinnschmelze \, Maurienstraße 19 \, 22305 Hamburg
DTSTAMP:20260422T095229
SUMMARY:Kinderchor der Zinnschmelze
URL;VALUE=URI:https://www.kultur-hamburg.de/kurse_workshops/kinderchor-der-zinnschmelze-738517
DESCRIPTION:Hast du Spaß am gemeinsamen Singen und Musizieren?
Könntest du dir vorstellen, auch mal auf einer größeren Bühne zu stehen?
Bist du zudem zwischen 5 und 10 Jahre alt?
Dann schau doch mal bei uns vorbei!
UID:d912dd50d7f67fca2f00b5d757847824@kulturhamburg
END:VEVENT
END:VCALENDAR