BEGIN:VCALENDAR
VERSION:2.0
PRODID:-//STADTKULTUR HAMBURG//kultur-hamburg.de///DE
CALSCALE:GREGORIAN
BEGIN:VEVENT
X-WR-TIMEZONE:Europe/Berlin
DTSTART:20121025T153000
DTEND:20121206T170000
LOCATION:
DTSTAMP:20260423T033952
SUMMARY:Konzentriert geht‘s wie geschmiert
URL;VALUE=URI:https://www.kultur-hamburg.de/kurse_workshops/konzentriert-gehts-wie-geschmiert-73951
DESCRIPTION:
UID:868c445c0535b16da3ae495cad9b5771@kulturhamburg
END:VEVENT
END:VCALENDAR