BEGIN:VCALENDAR
VERSION:2.0
PRODID:-//STADTKULTUR HAMBURG//kultur-hamburg.de///DE
CALSCALE:GREGORIAN
BEGIN:VEVENT
X-WR-TIMEZONE:Europe/Berlin
DTSTART:20121123T170000
DTEND:20121207T190000
LOCATION:Ev. Familienbildung Eppendorf \, Loogeplatz 14/16 \, 20249 Hamburg
DTSTAMP:20260422T204800
SUMMARY:Teenie — Schminkschule
URL;VALUE=URI:https://www.kultur-hamburg.de/kurse_workshops/teenie-oe-schminkschule-73967
DESCRIPTION:
UID:0a78643cbd50868c92646dc094211e28@kulturhamburg
END:VEVENT
END:VCALENDAR