BEGIN:VCALENDAR
VERSION:2.0
PRODID:-//STADTKULTUR HAMBURG//kultur-hamburg.de///DE
CALSCALE:GREGORIAN
BEGIN:VEVENT
X-WR-TIMEZONE:Europe/Berlin
DTSTART:20120330T190000
DTEND:20120330T220000
LOCATION:Ev. Familienbildung Harburg \, Hölertwiete 5 \, 21073 Hamburg
DTSTAMP:20260423T105611
SUMMARY:Kochen wie Stars und Sternchen
URL;VALUE=URI:https://www.kultur-hamburg.de/kurse_workshops/kochen-wie-stars-und-sternchen-73972
DESCRIPTION:Leitung Ellen Caffier
UID:9932f11e95b86ee59a57720ce0b6f61d@kulturhamburg
END:VEVENT
END:VCALENDAR