BEGIN:VCALENDAR
VERSION:2.0
PRODID:-//STADTKULTUR HAMBURG//kultur-hamburg.de///DE
CALSCALE:GREGORIAN
BEGIN:VEVENT
X-WR-TIMEZONE:Europe/Berlin
DTSTART:20121024T190000
DTEND:20121128T203000
LOCATION:Ev. Familienbildung Harburg \, Hölertwiete 5 \, 21073 Hamburg
DTSTAMP:20260423T033935
SUMMARY:Computer ohne Stress II
URL;VALUE=URI:https://www.kultur-hamburg.de/kurse_workshops/computer-ohne-stress-ii-73976
DESCRIPTION:Aufbaukurs
Leitung Christoph Fittschen
UID:3de6bc442d6e07d7bee30ca403bc8746@kulturhamburg
END:VEVENT
END:VCALENDAR