BEGIN:VCALENDAR
VERSION:2.0
PRODID:-//STADTKULTUR HAMBURG//kultur-hamburg.de///DE
CALSCALE:GREGORIAN
BEGIN:VEVENT
X-WR-TIMEZONE:Europe/Berlin
DTSTART:20250421T123000
DTEND:20250421T143000
LOCATION:Goldbekhaus \, Moorfuhrtweg 9 \, 22301 Hamburg
DTSTAMP:20260423T122335
SUMMARY:Aquarellieren und Zeichnen | Kreativ am Nachmittag
URL;VALUE=URI:https://www.kultur-hamburg.de/kurse_workshops/aquarellieren-und-zeichnen--kreativ-am-nachmittag-740549
DESCRIPTION:Aquarellieren und Zeichnen | Kreativ am Nachmittag bietet Raum für kreatives Forschen und Entdecken.
UID:78ae86991951b491a62461f417189da8@kulturhamburg
END:VEVENT
END:VCALENDAR