BEGIN:VCALENDAR
VERSION:2.0
PRODID:-//STADTKULTUR HAMBURG//kultur-hamburg.de///DE
CALSCALE:GREGORIAN
BEGIN:VEVENT
X-WR-TIMEZONE:Europe/Berlin
DTSTART:20250428T150000
DTEND:20250428T170000
LOCATION:Goldbekhaus \, Moorfuhrtweg 9 \, 22301 Hamburg
DTSTAMP:20260421T134945
SUMMARY:Aquarellieren und Zeichnen | Kreativ am Nachmittag
URL;VALUE=URI:https://www.kultur-hamburg.de/kurse_workshops/aquarellieren-und-zeichnen--kreativ-am-nachmittag-740593
DESCRIPTION:Aquarellieren und Zeichnen | Kreativ am Nachmittag bietet Raum für kreatives Forschen und Entdecken.
UID:d34a2413379d9a29b1f33201b6f2bbfc@kulturhamburg
END:VEVENT
END:VCALENDAR