BEGIN:VCALENDAR
VERSION:2.0
PRODID:-//STADTKULTUR HAMBURG//kultur-hamburg.de///DE
CALSCALE:GREGORIAN
BEGIN:VEVENT
X-WR-TIMEZONE:Europe/Berlin
DTSTART:20260426T120000
DTEND:20260426T160000
LOCATION:MOTTE VERANSTALTUNGEN \, Rothestraße 48 \, 22765 Hamburg
DTSTAMP:20260420T093535
SUMMARY:klaMOTTEntauschrausch
URL;VALUE=URI:https://www.kultur-hamburg.de/veranstaltungen/klamottentauschrausch-743656
DESCRIPTION:
UID:fe18d628ad6296bbd71db6c4b6085ee4@kulturhamburg
END:VEVENT
END:VCALENDAR