BEGIN:VCALENDAR
VERSION:2.0
PRODID:-//STADTKULTUR HAMBURG//kultur-hamburg.de///DE
CALSCALE:GREGORIAN
BEGIN:VEVENT
X-WR-TIMEZONE:Europe/Berlin
DTSTART:20251110T180000
DTEND:20280103T193000
LOCATION:TASK Schauspielschule für Kinder und Jugendliche \, Stresemannstraße 163 (Neue Flora) \, 22769 Hamburg
DTSTAMP:20260422T064510
SUMMARY:Schauspielschule für Kinder und Jugendliche
URL;VALUE=URI:https://www.kultur-hamburg.de/kurse_workshops/schauspielschule-fuer-kinder-und-jugendliche-755996
DESCRIPTION:Bringst Du schon Bühnenerfahrung mit? Du hast bereits im Schul- oder Freizeittheater oder beim ein oder anderen (Kurz-)Film mitgespielt, möchtest aber mehr als das? Dann komm zu uns und probier‘ Dich aus!
UID:2a0b3d8a25f64df604546c0f046ed401@kulturhamburg
END:VEVENT
END:VCALENDAR