BEGIN:VCALENDAR
VERSION:2.0
PRODID:-//STADTKULTUR HAMBURG//kultur-hamburg.de///DE
CALSCALE:GREGORIAN
BEGIN:VEVENT
X-WR-TIMEZONE:Europe/Berlin
DTSTART:20251215T180000
DTEND:20280207T193000
LOCATION:TASK Schauspielschule für Kinder und Jugendliche \, Stresemannstraße 163 (Neue Flora) \, 22769 Hamburg
DTSTAMP:20260422T143425
SUMMARY:Schauspielschule für Kinder und Jugendliche
URL;VALUE=URI:https://www.kultur-hamburg.de/kurse_workshops/schauspielschule-fuer-kinder-und-jugendliche-756001
DESCRIPTION:Bringst Du schon Bühnenerfahrung mit? Du hast bereits im Schul- oder Freizeittheater oder beim ein oder anderen (Kurz-)Film mitgespielt, möchtest aber mehr als das? Dann komm zu uns und probier‘ Dich aus!
UID:cdbc94bee0aebf24d20cd4cea54e7abb@kulturhamburg
END:VEVENT
END:VCALENDAR