BEGIN:VCALENDAR
VERSION:2.0
PRODID:-//STADTKULTUR HAMBURG//kultur-hamburg.de///DE
CALSCALE:GREGORIAN
BEGIN:VEVENT
X-WR-TIMEZONE:Europe/Berlin
DTSTART:20251021T170000
DTEND:20251021T183000
LOCATION:TASK Schauspielschule für Kinder und Jugendliche \, Stresemannstraße 163 (Neue Flora) \, 22769 Hamburg
DTSTAMP:20260422T012704
SUMMARY:Schauspielschule für Kinder und Jugendliche
URL;VALUE=URI:https://www.kultur-hamburg.de/kurse_workshops/schauspielschule-fuer-kinder-und-jugendliche-756222
DESCRIPTION:Bringst Du schon Bühnenerfahrung mit? Du hast bereits im Schul- oder Freizeittheater oder beim ein oder anderen (Kurz-)Film mitgespielt, möchtest aber mehr als das? Dann komm zu uns und probier‘ Dich aus!
Schau doch mal auf unserer Website vorbei: kinderschauspielschule.de – dort findest du alle Infos zur TASK Schauspielschule!
UID:456c0549093ac7e7717a01d75803fff8@kulturhamburg
END:VEVENT
END:VCALENDAR