BEGIN:VCALENDAR
VERSION:2.0
PRODID:-//STADTKULTUR HAMBURG//kultur-hamburg.de///DE
CALSCALE:GREGORIAN
BEGIN:VEVENT
X-WR-TIMEZONE:Europe/Berlin
DTSTART:20250902T170000
DTEND:20280905T183000
LOCATION:TASK Schauspielschule für Kinder und Jugendliche \, Stresemannstraße 163 (Neue Flora) \, 22769 Hamburg
DTSTAMP:20260421T134833
SUMMARY:Schauspielschule für Kinder und Jugendliche
URL;VALUE=URI:https://www.kultur-hamburg.de/kurse_workshops/schauspielschule-fuer-kinder-und-jugendliche-756241
DESCRIPTION:Du hast große Lust, die spannende Welt des Schauspiels zu erkunden? Du möchtest lernen, mit welchen Tricks und Techniken ein Schauspieler arbeitet, um in andere Persönlichkeiten zu schlüpfen? Du willst auf der Bühne oder vor der Kamera zeigen, was alles in dir steckt? Dann komm vorbei, wir freuen uns auf Dich! Schau doch mal auf unserer Website vorbei: kinderschauspielschule.de – dort findest du alle Infos zur TASK Schauspielschule!
UID:b3a5a4a77f13bffda067eafd1c3dc230@kulturhamburg
END:VEVENT
END:VCALENDAR