BEGIN:VCALENDAR
VERSION:2.0
PRODID:-//STADTKULTUR HAMBURG//kultur-hamburg.de///DE
CALSCALE:GREGORIAN
BEGIN:VEVENT
X-WR-TIMEZONE:Europe/Berlin
DTSTART:20251225T180000
DTEND:20251225T200000
LOCATION:TASK Schauspielschule für Kinder und Jugendliche \, Stresemannstraße 163 (Neue Flora) \, 22769 Hamburg
DTSTAMP:20260422T160737
SUMMARY:Schauspielschule für Kinder und Jugendliche
URL;VALUE=URI:https://www.kultur-hamburg.de/kurse_workshops/schauspielschule-fuer-kinder-und-jugendliche-756539
DESCRIPTION:Du bist bühnenerfahren, hast bereits bei uns, im Schul- oder Freizeittheater auf der Bühne gestanden oder bei (Kurz-)Filmen mitgespielt? Du möchtest Dich mit Impro, Tanz, Szenen- bzw. Kameraarbeit, Sketchen, Choreo oder einfach auch mal in TikTok ausprobieren oder weiterentwickeln? Dann ist der Stage Intensive Kurs die Extra-Kirsche auf Deinem Kuchen – denn für alle TASKler*innen ist die geballte Ladung an Fachwissen von ständig wechselnden Dozent*innen Fun for free!

Let´s get together!
UID:bd55b294f547a7082f45e48d67b31394@kulturhamburg
END:VEVENT
END:VCALENDAR