BEGIN:VCALENDAR
VERSION:2.0
PRODID:-//STADTKULTUR HAMBURG//kultur-hamburg.de///DE
CALSCALE:GREGORIAN
BEGIN:VEVENT
X-WR-TIMEZONE:Europe/Berlin
DTSTART:20260101T130000
DTEND:20260101T150000
LOCATION:HEAVEN CAN WAIT AKADEMIE \, Stresemannstraße 163 \, 22769 Hamburg
DTSTAMP:20260422T175803
SUMMARY:Chorkurs für Senoir+innen der Heaven Can Wait Akademie
URL;VALUE=URI:https://www.kultur-hamburg.de/kurse_workshops/chorkurs-fuer-senoirinnen-der-heaven-can-wait-akademie-757015
DESCRIPTION:14- tägig, Solo- und Chorgesang im Pop und Rock, Gesangstechnik, Stimmbildung und vieles mehr!

Die Lieder der Enkel schmettern und Riesenspaß dabei haben? = Sowas von! Singen wie Mark Forster oder Coldplay? = Aber klar! Auf einer Bühne stehen mit einer coolen Rockband im Hintergrund? = Das muss kein Traum bleiben.
UID:03d5a38c5a914db74cb6e463f99cb26f@kulturhamburg
END:VEVENT
END:VCALENDAR