BEGIN:VCALENDAR
VERSION:2.0
PRODID:-//STADTKULTUR HAMBURG//kultur-hamburg.de///DE
CALSCALE:GREGORIAN
BEGIN:VEVENT
X-WR-TIMEZONE:Europe/Berlin
DTSTART:20260421T191500
DTEND:20260421T220000
LOCATION:Zinnschmelze \, Maurienstraße 19 \, 22305 Hamburg
DTSTAMP:20260421T152539
SUMMARY:Tango Argentino
URL;VALUE=URI:https://www.kultur-hamburg.de/kurse_workshops/tango-argentino-760110
DESCRIPTION:Du wolltest schon immer einmal Tango Argentino ausprobieren?
UID:15a55e243c342de27b87b311b305358f@kulturhamburg
END:VEVENT
END:VCALENDAR