BEGIN:VCALENDAR
VERSION:2.0
PRODID:-//STADTKULTUR HAMBURG//kultur-hamburg.de///DE
CALSCALE:GREGORIAN
BEGIN:VEVENT
X-WR-TIMEZONE:Europe/Berlin
DTSTART:20260422T170000
DTEND:20260422T180000
LOCATION:Zinnschmelze \, Maurienstraße 19 \, 22305 Hamburg
DTSTAMP:20260421T202334
SUMMARY:Sprachbrücke
URL;VALUE=URI:https://www.kultur-hamburg.de/kurse_workshops/sprachbruecke-760260
DESCRIPTION:Wir reden, damit Sprache verbindet…
UID:24656b4682a4bf9996d113feae7b5575@kulturhamburg
END:VEVENT
END:VCALENDAR