BEGIN:VCALENDAR
VERSION:2.0
PRODID:-//STADTKULTUR HAMBURG//kultur-hamburg.de///DE
CALSCALE:GREGORIAN
BEGIN:VEVENT
X-WR-TIMEZONE:Europe/Berlin
DTSTART:20250512T190000
DTEND:20250512T210000
LOCATION:B*Treff Altona-Nord \, Gefionstr.3 \, 22769 Hamburg
DTSTAMP:20260419T140915
SUMMARY:Stark und stabil in stürmischen Zeiten
URL;VALUE=URI:https://www.kultur-hamburg.de/kurse_workshops/stark-und-stabil-in-stuermischen-zeiten-761916
DESCRIPTION:Dein 10-Wochen-Kurs zu innerer Kraft, Klarheit & Lebensfreude
UID:f3c2e54984fceca49d1ebe43aa5514a8@kulturhamburg
END:VEVENT
END:VCALENDAR