BEGIN:VCALENDAR
VERSION:2.0
PRODID:-//STADTKULTUR HAMBURG//kultur-hamburg.de///DE
CALSCALE:GREGORIAN
BEGIN:VEVENT
X-WR-TIMEZONE:Europe/Berlin
DTSTART:20250519T190000
DTEND:20250519T210000
LOCATION:B*Treff Altona-Nord \, Gefionstr.3 \, 22769 Hamburg
DTSTAMP:20260423T122342
SUMMARY:Stark und stabil in stürmischen Zeiten
URL;VALUE=URI:https://www.kultur-hamburg.de/kurse_workshops/stark-und-stabil-in-stuermischen-zeiten-761917
DESCRIPTION:Dein 10-Wochen-Kurs zu innerer Kraft, Klarheit & Lebensfreude
UID:a12be4cc759f076afabda82e302d09ee@kulturhamburg
END:VEVENT
END:VCALENDAR