BEGIN:VCALENDAR
VERSION:2.0
PRODID:-//STADTKULTUR HAMBURG//kultur-hamburg.de///DE
CALSCALE:GREGORIAN
BEGIN:VEVENT
X-WR-TIMEZONE:Europe/Berlin
DTSTART:20250622T193000
DTEND:20250622T210000
LOCATION:Theaterdeck in der Zinnschmelze \, Maurienstr. 19 \, 22305 Hamburg
DTSTAMP:20260421T181715
SUMMARY:Frau Müller muss weg!
URL;VALUE=URI:https://www.kultur-hamburg.de/veranstaltungen/frau-mueller-muss-weg!-763452
DESCRIPTION:Dicke Luft. Die Übergangszeugnisse der Klasse 4b stehen an. Jetzt heißt es „Gymnasium oder sozialer Abstieg“. Die blanke Angst geht seit Wochen bei den Eltern um, aus Sorge um ihre lieben Kleinen. Und wer hat Schuld an der ganzen Schulmisere?? Klarer Fall, Frau Müller muss weg. Sicher ist sicher. Und die Eltern-Delegation hat auch schon einen Plan…
UID:8f2dbbe47b57efd0240c097b44fc82e7@kulturhamburg
END:VEVENT
END:VCALENDAR