BEGIN:VCALENDAR
VERSION:2.0
PRODID:-//STADTKULTUR HAMBURG//kultur-hamburg.de///DE
CALSCALE:GREGORIAN
BEGIN:VEVENT
X-WR-TIMEZONE:Europe/Berlin
DTSTART:20250922T180000
DTEND:20250922T190000
LOCATION:Horner Freiheit \, Am Gojenboom 46 \, 22111 Hamburg
DTSTAMP:20260421T184743
SUMMARY:VHS Ukulele für AnfängerInnen
URL;VALUE=URI:https://www.kultur-hamburg.de/kurse_workshops/vhs-ukulele-fuer-anfaengerinnen-768603
DESCRIPTION:Wenn ein Saiteninstrument in den letzten Jahren ein echtes Revival erlebte, dann die Ukulele.
UID:2cc4ee2212beb5b017a40e31eb233eeb@kulturhamburg
END:VEVENT
END:VCALENDAR