BEGIN:VCALENDAR
VERSION:2.0
PRODID:-//STADTKULTUR HAMBURG//kultur-hamburg.de///DE
CALSCALE:GREGORIAN
BEGIN:VEVENT
X-WR-TIMEZONE:Europe/Berlin
DTSTART:20251013T180000
DTEND:20251013T190000
LOCATION:Horner Freiheit \, Am Gojenboom 46 \, 22111 Hamburg
DTSTAMP:20260421T233300
SUMMARY:VHS Ukulele für AnfängerInnen
URL;VALUE=URI:https://www.kultur-hamburg.de/kurse_workshops/vhs-ukulele-fuer-anfaengerinnen-768606
DESCRIPTION:Wenn ein Saiteninstrument in den letzten Jahren ein echtes Revival erlebte, dann die Ukulele.
UID:1d6008fc881f152a4b18cdfaad06e3e3@kulturhamburg
END:VEVENT
END:VCALENDAR