BEGIN:VCALENDAR
VERSION:2.0
PRODID:-//STADTKULTUR HAMBURG//kultur-hamburg.de///DE
CALSCALE:GREGORIAN
BEGIN:VEVENT
X-WR-TIMEZONE:Europe/Berlin
DTSTART:20251103T180000
DTEND:20251103T190000
LOCATION:Horner Freiheit \, Am Gojenboom 46 \, 22111 Hamburg
DTSTAMP:20260422T045602
SUMMARY:VHS Ukulele für AnfängerInnen
URL;VALUE=URI:https://www.kultur-hamburg.de/kurse_workshops/vhs-ukulele-fuer-anfaengerinnen-768608
DESCRIPTION:Wenn ein Saiteninstrument in den letzten Jahren ein echtes Revival erlebte, dann die Ukulele.
UID:3a89f58d6c357e28980fc708d45b8d28@kulturhamburg
END:VEVENT
END:VCALENDAR