BEGIN:VCALENDAR
VERSION:2.0
PRODID:-//STADTKULTUR HAMBURG//kultur-hamburg.de///DE
CALSCALE:GREGORIAN
BEGIN:VEVENT
X-WR-TIMEZONE:Europe/Berlin
DTSTART:20251110T180000
DTEND:20251110T190000
LOCATION:Horner Freiheit \, Am Gojenboom 46 \, 22111 Hamburg
DTSTAMP:20260422T063009
SUMMARY:VHS Ukulele für AnfängerInnen
URL;VALUE=URI:https://www.kultur-hamburg.de/kurse_workshops/vhs-ukulele-fuer-anfaengerinnen-768609
DESCRIPTION:Wenn ein Saiteninstrument in den letzten Jahren ein echtes Revival erlebte, dann die Ukulele.
UID:6bb483f349e7e1becce17ab94abaeed5@kulturhamburg
END:VEVENT
END:VCALENDAR