BEGIN:VCALENDAR
VERSION:2.0
PRODID:-//STADTKULTUR HAMBURG//kultur-hamburg.de///DE
CALSCALE:GREGORIAN
BEGIN:VEVENT
X-WR-TIMEZONE:Europe/Berlin
DTSTART:20251124T180000
DTEND:20251124T190000
LOCATION:Horner Freiheit \, Am Gojenboom 46 \, 22111 Hamburg
DTSTAMP:20260422T095429
SUMMARY:VHS Ukulele für AnfängerInnen
URL;VALUE=URI:https://www.kultur-hamburg.de/kurse_workshops/vhs-ukulele-fuer-anfaengerinnen-768611
DESCRIPTION:Wenn ein Saiteninstrument in den letzten Jahren ein echtes Revival erlebte, dann die Ukulele.
UID:5181cc626479e1cdf4dc35f7b9683a13@kulturhamburg
END:VEVENT
END:VCALENDAR