BEGIN:VCALENDAR
VERSION:2.0
PRODID:-//STADTKULTUR HAMBURG//kultur-hamburg.de///DE
CALSCALE:GREGORIAN
BEGIN:VEVENT
X-WR-TIMEZONE:Europe/Berlin
DTSTART:20250915T203000
DTEND:20250915T213000
LOCATION:Horner Freiheit \, Am Gojenboom 46 \, 22111 Hamburg
DTSTAMP:20260421T170615
SUMMARY:VHS Ukulele III
URL;VALUE=URI:https://www.kultur-hamburg.de/kurse_workshops/vhs-ukulele-iii-768641
DESCRIPTION:Wenn ein Saiteninstrument in den letzten Jahren ein echtes Revival erlebte, dann die Ukulele.
UID:cd504430a67c88c61a958c2e8b9af949@kulturhamburg
END:VEVENT
END:VCALENDAR