BEGIN:VCALENDAR
VERSION:2.0
PRODID:-//STADTKULTUR HAMBURG//kultur-hamburg.de///DE
CALSCALE:GREGORIAN
BEGIN:VEVENT
X-WR-TIMEZONE:Europe/Berlin
DTSTART:20260505T100000
DTEND:20260505T113000
LOCATION:Kultur Palast Hamburg \, Öjendorfer Weg 30a \, 22119 Hamburg
DTSTAMP:20260419T201726
SUMMARY:Kinderkino
URL;VALUE=URI:https://www.kultur-hamburg.de/veranstaltungen/kinderkino-769047
DESCRIPTION:Empfohlen ab 6 Jahren, 85 Minuten, Regie: Tobias Genkel u.a., Deutschland 2020, Animationsfilm
UID:7b541ffa93186f37c9da7df38e106d44@kulturhamburg
END:VEVENT
END:VCALENDAR