BEGIN:VCALENDAR
VERSION:2.0
PRODID:-//STADTKULTUR HAMBURG//kultur-hamburg.de///DE
CALSCALE:GREGORIAN
BEGIN:VEVENT
X-WR-TIMEZONE:Europe/Berlin
DTSTART:20121017T150000
DTEND:20121031T160000
LOCATION:Elternschule Osdorf \, Bornheide 76c \, 22549 Hamburg
DTSTAMP:20260423T052953
SUMMARY:Mini-Malen an der Staffelei
URL;VALUE=URI:https://www.kultur-hamburg.de/kurse_workshops/mini-malen-an-der-staffelei-77021
DESCRIPTION:An der Staffelei experimentieren die ganz Kleinen zum ersten Mal mit
dem Pinsel. Sie folgen seinem Weg auf dem Papier, beobachten wie die
Farbe tropft, erforschen jede Farbe einzeln und erfreuen sich an selbst
gemischten Klecksen.
UID:f37fedefa7c0209333c01dfb55ea165e@kulturhamburg
END:VEVENT
END:VCALENDAR