BEGIN:VCALENDAR
VERSION:2.0
PRODID:-//STADTKULTUR HAMBURG//kultur-hamburg.de///DE
CALSCALE:GREGORIAN
BEGIN:VEVENT
X-WR-TIMEZONE:Europe/Berlin
DTSTART:20121128T150000
DTEND:20121212T160000
LOCATION:Elternschule Osdorf \, Bornheide 76c \, 22549 Hamburg
DTSTAMP:20260422T190652
SUMMARY:Mini-Malen an der Staffelei
URL;VALUE=URI:https://www.kultur-hamburg.de/kurse_workshops/mini-malen-an-der-staffelei-77023
DESCRIPTION:An der Staffelei experimentieren die ganz Kleinen zum ersten Mal mit
dem Pinsel. Sie folgen seinem Weg auf dem Papier, beobachten wie die
Farbe tropft, erforschen jede Farbe einzeln und erfreuen sich an selbst
gemischten Klecksen.
UID:89a1c986c55fc0312311768136bacb8d@kulturhamburg
END:VEVENT
END:VCALENDAR