BEGIN:VCALENDAR
VERSION:2.0
PRODID:-//STADTKULTUR HAMBURG//kultur-hamburg.de///DE
CALSCALE:GREGORIAN
BEGIN:VEVENT
X-WR-TIMEZONE:Europe/Berlin
DTSTART:20280128T180000
DTEND:20280128T200000
LOCATION:Zinnschmelze \, Maurienstraße 19 \, 22305 Hamburg
DTSTAMP:20260419T152801
SUMMARY:Cajon und HandPan
URL;VALUE=URI:https://www.kultur-hamburg.de/kurse_workshops/cajon-und-handpan-774453
DESCRIPTION:Cajon 18-19 Uhr

HandPan 19-20 Uhr
UID:3ed4d270826b028abe9b65fa813c080c@kulturhamburg
END:VEVENT
END:VCALENDAR