BEGIN:VCALENDAR
VERSION:2.0
PRODID:-//STADTKULTUR HAMBURG//kultur-hamburg.de///DE
CALSCALE:GREGORIAN
BEGIN:VEVENT
X-WR-TIMEZONE:Europe/Berlin
DTSTART:20280204T180000
DTEND:20280204T200000
LOCATION:Zinnschmelze \, Maurienstraße 19 \, 22305 Hamburg
DTSTAMP:20260419T170607
SUMMARY:Cajon und HandPan
URL;VALUE=URI:https://www.kultur-hamburg.de/kurse_workshops/cajon-und-handpan-774454
DESCRIPTION:Cajon 18-19 Uhr

HandPan 19-20 Uhr
UID:3a546f0e12e748627bf477b51b8a7b95@kulturhamburg
END:VEVENT
END:VCALENDAR