BEGIN:VCALENDAR
VERSION:2.0
PRODID:-//STADTKULTUR HAMBURG//kultur-hamburg.de///DE
CALSCALE:GREGORIAN
BEGIN:VEVENT
X-WR-TIMEZONE:Europe/Berlin
DTSTART:20280211T180000
DTEND:20280211T200000
LOCATION:Zinnschmelze \, Maurienstraße 19 \, 22305 Hamburg
DTSTAMP:20260419T183515
SUMMARY:Cajon und HandPan
URL;VALUE=URI:https://www.kultur-hamburg.de/kurse_workshops/cajon-und-handpan-774455
DESCRIPTION:Cajon 18-19 Uhr

HandPan 19-20 Uhr
UID:45da912f47634899880e34d8329d84e5@kulturhamburg
END:VEVENT
END:VCALENDAR