BEGIN:VCALENDAR
VERSION:2.0
PRODID:-//STADTKULTUR HAMBURG//kultur-hamburg.de///DE
CALSCALE:GREGORIAN
BEGIN:VEVENT
X-WR-TIMEZONE:Europe/Berlin
DTSTART:20280218T180000
DTEND:20280218T200000
LOCATION:Zinnschmelze \, Maurienstraße 19 \, 22305 Hamburg
DTSTAMP:20260419T201944
SUMMARY:Cajon und HandPan
URL;VALUE=URI:https://www.kultur-hamburg.de/kurse_workshops/cajon-und-handpan-774456
DESCRIPTION:Cajon 18-19 Uhr

HandPan 19-20 Uhr
UID:2604b670f7529d86677726e7f2e58b9a@kulturhamburg
END:VEVENT
END:VCALENDAR