BEGIN:VCALENDAR
VERSION:2.0
PRODID:-//STADTKULTUR HAMBURG//kultur-hamburg.de///DE
CALSCALE:GREGORIAN
BEGIN:VEVENT
X-WR-TIMEZONE:Europe/Berlin
DTSTART:20280225T180000
DTEND:20280225T200000
LOCATION:Zinnschmelze \, Maurienstraße 19 \, 22305 Hamburg
DTSTAMP:20260419T220502
SUMMARY:Cajon und HandPan
URL;VALUE=URI:https://www.kultur-hamburg.de/kurse_workshops/cajon-und-handpan-774457
DESCRIPTION:Cajon 18-19 Uhr

HandPan 19-20 Uhr
UID:840b5b2eea40a96edfe523b72d7ec447@kulturhamburg
END:VEVENT
END:VCALENDAR